BEGIN:VCALENDAR
VERSION:2.0
PRODID:-//Michigan Planners - ECPv6.15.11//NONSGML v1.0//EN
CALSCALE:GREGORIAN
METHOD:PUBLISH
X-WR-CALNAME:Michigan Planners
X-ORIGINAL-URL:https://www.miplanners.com
X-WR-CALDESC:Events for Michigan Planners
REFRESH-INTERVAL;VALUE=DURATION:PT1H
X-Robots-Tag:noindex
X-PUBLISHED-TTL:PT1H
BEGIN:VTIMEZONE
TZID:America/Detroit
BEGIN:DAYLIGHT
TZOFFSETFROM:-0500
TZOFFSETTO:-0400
TZNAME:EDT
DTSTART:20240310T070000
END:DAYLIGHT
BEGIN:STANDARD
TZOFFSETFROM:-0400
TZOFFSETTO:-0500
TZNAME:EST
DTSTART:20241103T060000
END:STANDARD
BEGIN:DAYLIGHT
TZOFFSETFROM:-0500
TZOFFSETTO:-0400
TZNAME:EDT
DTSTART:20250309T070000
END:DAYLIGHT
BEGIN:STANDARD
TZOFFSETFROM:-0400
TZOFFSETTO:-0500
TZNAME:EST
DTSTART:20251102T060000
END:STANDARD
BEGIN:DAYLIGHT
TZOFFSETFROM:-0500
TZOFFSETTO:-0400
TZNAME:EDT
DTSTART:20260308T070000
END:DAYLIGHT
BEGIN:STANDARD
TZOFFSETFROM:-0400
TZOFFSETTO:-0500
TZNAME:EST
DTSTART:20261101T060000
END:STANDARD
END:VTIMEZONE
BEGIN:VEVENT
DTSTART;TZID=America/Detroit:20250520T100000
DTEND;TZID=America/Detroit:20250520T110000
DTSTAMP:20260420T164333
CREATED:20250508T185742Z
LAST-MODIFIED:20250520T191021Z
UID:10000001-1747735200-1747738800@www.miplanners.com
SUMMARY:Employee Retirement Income Security Act (ERISA)
DESCRIPTION:This webinar will dive into the key requirements of the Employee Retirement Income Security Act (ERISA)\, covering everything from fiduciary responsibilities to plan administration. Learn about ERISA’s impact on retirement plans\, health benefits\, and more\, while gaining actionable insights to ensure your organization stays compliant and protects employees’ benefits.
URL:https://www.miplanners.com/event/employee-retirement-income-security-act-erisa/
ATTACH;FMTTYPE=image/jpeg:https://www.miplanners.com/wp-content/uploads/2025/05/compliance-clarity.jpg
ORGANIZER;CN="Michigan Planners.":MAILTO:kdilorenzo@miplanners.com
LOCATION:https://us02web.zoom.us/j/81764568810
END:VEVENT
END:VCALENDAR